BEGIN:VCALENDAR
VERSION:2.0
PRODID:icalendar-ruby
CALSCALE:GREGORIAN
X-WR-TIMEZONE:Europe/Helsinki
BEGIN:VTIMEZONE
TZID:Europe/Helsinki
BEGIN:DAYLIGHT
DTSTART:20260329T040000
TZOFFSETFROM:+0200
TZOFFSETTO:+0300
RRULE:FREQ=YEARLY;BYDAY=-1SU;BYMONTH=3
TZNAME:EEST
END:DAYLIGHT
BEGIN:STANDARD
DTSTART:20261025T030000
TZOFFSETFROM:+0300
TZOFFSETTO:+0200
RRULE:FREQ=YEARLY;BYDAY=-1SU;BYMONTH=10
TZNAME:EET
END:STANDARD
END:VTIMEZONE
BEGIN:VEVENT
DTSTAMP:20260423T181612
UID:lahdennaisvoimistelijat.myclub.fi-7231645
DTSTART;TZID=Europe/Helsinki:20240901T160000
DTEND;TZID=Europe/Helsinki:20240901T160000
DESCRIPTION:Monipuolista perusvoimistelua\, leikkejä ja musiikkiliikuntaa.
  Tunneilla saatetaan tutustua myös erilaisiin välineisiin sekä rope ski
 pping -harjoitteisiin. Liikuntaa monipuolisesti\, salien erilaiset mahdoll
 isuudet huomioiden. Sopii sekä tytöille että pojille. \n\nhttps://lahde
 nnaisvoimistelijat.myclub.fi/flow/events/7231645
LOCATION:Nastolan kirkonkylän koulu\, Hoitokodintie 1\, 15560 Lahti
SEQUENCE:0
SUMMARY:lasten ja nuorten ryhmät: Voimistelukoulu 7-10 v. Nastolan kk koul
 u
URL;VALUE=URI:https://lahdennaisvoimistelijat.myclub.fi/flow/events/7231645
END:VEVENT
END:VCALENDAR
